BEGIN:VCALENDAR
VERSION:2.0
PRODID:icalendar-ruby
CALSCALE:GREGORIAN
METHOD:PUBLISH
BEGIN:VEVENT
DTSTAMP:20260425T111003Z
UID:5-407871@faithbible.tithelysetup2.com
DTSTART:20261011T173000Z
DTEND:20261011T183000Z
CLASS:PUBLIC
CREATED:20260423T034930
DESCRIPTION:Sunday Worship
LAST-MODIFIED:20260423T034930
LOCATION:
SUMMARY:Sunday Worship
URL;VALUE=URI:https://faithbible.tithelysetup2.com/events/sunday-worship/20
 26-10-11
END:VEVENT
END:VCALENDAR
