BEGIN:VCALENDAR
VERSION:2.0
PRODID:icalendar-ruby
CALSCALE:GREGORIAN
METHOD:PUBLISH
BEGIN:VEVENT
DTSTAMP:20260424T163722Z
UID:5-407862@faithbible.tithelysetup2.com
DTSTART:20260809T173000Z
DTEND:20260809T183000Z
CLASS:PUBLIC
CREATED:20260423T034930
DESCRIPTION:Sunday Worship
LAST-MODIFIED:20260423T034930
LOCATION:
SUMMARY:Sunday Worship
URL;VALUE=URI:https://faithbible.tithelysetup2.com/events/sunday-worship/20
 26-08-09
END:VEVENT
END:VCALENDAR
