BEGIN:VCALENDAR
VERSION:2.0
PRODID:icalendar-ruby
CALSCALE:GREGORIAN
METHOD:PUBLISH
BEGIN:VEVENT
DTSTAMP:20260424T055831Z
UID:5-407855@faithbible.tithelysetup2.com
DTSTART:20260621T173000Z
DTEND:20260621T183000Z
CLASS:PUBLIC
CREATED:20260423T034930
DESCRIPTION:Sunday Worship
LAST-MODIFIED:20260423T034930
LOCATION:
SUMMARY:Sunday Worship
URL;VALUE=URI:https://faithbible.tithelysetup2.com/events/sunday-worship/20
 26-06-21
END:VEVENT
END:VCALENDAR
